BEGIN:VCALENDAR
VERSION:2.0
PRODID:-//Sabor Quijote - ECPv6.15.13//NONSGML v1.0//EN
CALSCALE:GREGORIAN
METHOD:PUBLISH
X-ORIGINAL-URL:https://www.turismociudadreal.com
X-WR-CALDESC:Eventos para Sabor Quijote
REFRESH-INTERVAL;VALUE=DURATION:PT1H
X-Robots-Tag:noindex
X-PUBLISHED-TTL:PT1H
BEGIN:VTIMEZONE
TZID:Europe/Madrid
BEGIN:DAYLIGHT
TZOFFSETFROM:+0100
TZOFFSETTO:+0200
TZNAME:CEST
DTSTART:20240331T010000
END:DAYLIGHT
BEGIN:STANDARD
TZOFFSETFROM:+0200
TZOFFSETTO:+0100
TZNAME:CET
DTSTART:20241027T010000
END:STANDARD
BEGIN:DAYLIGHT
TZOFFSETFROM:+0100
TZOFFSETTO:+0200
TZNAME:CEST
DTSTART:20250330T010000
END:DAYLIGHT
BEGIN:STANDARD
TZOFFSETFROM:+0200
TZOFFSETTO:+0100
TZNAME:CET
DTSTART:20251026T010000
END:STANDARD
BEGIN:DAYLIGHT
TZOFFSETFROM:+0100
TZOFFSETTO:+0200
TZNAME:CEST
DTSTART:20260329T010000
END:DAYLIGHT
BEGIN:STANDARD
TZOFFSETFROM:+0200
TZOFFSETTO:+0100
TZNAME:CET
DTSTART:20261025T010000
END:STANDARD
END:VTIMEZONE
BEGIN:VEVENT
DTSTART;TZID=Europe/Madrid:20251004T080000
DTEND;TZID=Europe/Madrid:20251006T140000
DTSTAMP:20260420T185305
CREATED:20251004T020013Z
LAST-MODIFIED:20251004T020013Z
UID:11872-1759564800-1759759200@www.turismociudadreal.com
SUMMARY:Programación de Cine Enero 2025
DESCRIPTION:Programación de Cine Enero 2025 en el Gran Teatro de Manzanares \nProgramación cine enero – 2025
URL:https://www.turismociudadreal.com/evento/programacion-de-cine-enero-2025/
LOCATION:Gran Teatro de Manzanares\, Plaza del Gran Teatro\, Manzanares\, Ciudad Real\, 13200\, Spain
ATTACH;FMTTYPE=image/webp:https://www.turismociudadreal.com/wp-content/uploads/2025/01/SELLO-Gran-Teatro-Color.jpg.webp
END:VEVENT
END:VCALENDAR